BEGIN:VCALENDAR
VERSION:2.0
PRODID:-//Bürgerausschuss Dickenreishausen-Dickenreis - ECPv6.15.20//NONSGML v1.0//EN
CALSCALE:GREGORIAN
METHOD:PUBLISH
X-WR-CALNAME:Bürgerausschuss Dickenreishausen-Dickenreis
X-ORIGINAL-URL:https://ba-dickenreishausen.de
X-WR-CALDESC:Veranstaltungen für Bürgerausschuss Dickenreishausen-Dickenreis
REFRESH-INTERVAL;VALUE=DURATION:PT1H
X-Robots-Tag:noindex
X-PUBLISHED-TTL:PT1H
BEGIN:VTIMEZONE
TZID:Europe/Berlin
BEGIN:DAYLIGHT
TZOFFSETFROM:+0100
TZOFFSETTO:+0200
TZNAME:CEST
DTSTART:20250330T010000
END:DAYLIGHT
BEGIN:STANDARD
TZOFFSETFROM:+0200
TZOFFSETTO:+0100
TZNAME:CET
DTSTART:20251026T010000
END:STANDARD
BEGIN:DAYLIGHT
TZOFFSETFROM:+0100
TZOFFSETTO:+0200
TZNAME:CEST
DTSTART:20260329T010000
END:DAYLIGHT
BEGIN:STANDARD
TZOFFSETFROM:+0200
TZOFFSETTO:+0100
TZNAME:CET
DTSTART:20261025T010000
END:STANDARD
BEGIN:DAYLIGHT
TZOFFSETFROM:+0100
TZOFFSETTO:+0200
TZNAME:CEST
DTSTART:20270328T010000
END:DAYLIGHT
BEGIN:STANDARD
TZOFFSETFROM:+0200
TZOFFSETTO:+0100
TZNAME:CET
DTSTART:20271031T010000
END:STANDARD
END:VTIMEZONE
BEGIN:VEVENT
DTSTART;TZID=Europe/Berlin:20260421T140000
DTEND;TZID=Europe/Berlin:20260421T160000
DTSTAMP:20260421T044908
CREATED:20251228T094517Z
LAST-MODIFIED:20260323T104047Z
UID:1414-1776780000-1776787200@ba-dickenreishausen.de
SUMMARY:Dorfkaffee
DESCRIPTION:
URL:https://ba-dickenreishausen.de/event/dorfkaffee-14/
LOCATION:Gemeindesaal Dickenreishausen\, Hinter den Gärten 1\, Memmingen\, Bayern\, 87700\, Germany
ORGANIZER;CN="Kirchengemeinde Dickenreishausen":MAILTO:pfarramt.dickenreishausen@elkb.de
END:VEVENT
END:VCALENDAR