BEGIN:VCALENDAR
VERSION:2.0
PRODID:-//Bürgerausschuss Dickenreishausen-Dickenreis - ECPv6.15.20//NONSGML v1.0//EN
CALSCALE:GREGORIAN
METHOD:PUBLISH
X-WR-CALNAME:Bürgerausschuss Dickenreishausen-Dickenreis
X-ORIGINAL-URL:https://ba-dickenreishausen.de
X-WR-CALDESC:Veranstaltungen für Bürgerausschuss Dickenreishausen-Dickenreis
REFRESH-INTERVAL;VALUE=DURATION:PT1H
X-Robots-Tag:noindex
X-PUBLISHED-TTL:PT1H
BEGIN:VTIMEZONE
TZID:Europe/Berlin
BEGIN:DAYLIGHT
TZOFFSETFROM:+0100
TZOFFSETTO:+0200
TZNAME:CEST
DTSTART:20240331T010000
END:DAYLIGHT
BEGIN:STANDARD
TZOFFSETFROM:+0200
TZOFFSETTO:+0100
TZNAME:CET
DTSTART:20241027T010000
END:STANDARD
BEGIN:DAYLIGHT
TZOFFSETFROM:+0100
TZOFFSETTO:+0200
TZNAME:CEST
DTSTART:20250330T010000
END:DAYLIGHT
BEGIN:STANDARD
TZOFFSETFROM:+0200
TZOFFSETTO:+0100
TZNAME:CET
DTSTART:20251026T010000
END:STANDARD
BEGIN:DAYLIGHT
TZOFFSETFROM:+0100
TZOFFSETTO:+0200
TZNAME:CEST
DTSTART:20260329T010000
END:DAYLIGHT
BEGIN:STANDARD
TZOFFSETFROM:+0200
TZOFFSETTO:+0100
TZNAME:CET
DTSTART:20261025T010000
END:STANDARD
END:VTIMEZONE
BEGIN:VEVENT
DTSTART;TZID=Europe/Berlin:20251123T153000
DTEND;TZID=Europe/Berlin:20251123T180000
DTSTAMP:20260420T031939
CREATED:20250910T112913Z
LAST-MODIFIED:20251117T201256Z
UID:1333-1763911800-1763920800@ba-dickenreishausen.de
SUMMARY:Bürgerversammlung 2025 - "Stadt im Dialog"
DESCRIPTION:Bürgerversammlung „Stadt im Dialog“\nAm 23.11.2025 von 15:30 bis 18:00 Uhr findet in der Stadthalle Memmingen die Bürgerversammlung der Gesamtstadt Memmingen statt. \n\n\nDer Eintritt ist frei\, es wird zusätzlich zu den Informationen der Stadt Memmingen wohl auch wieder Informationsstände der einzelnen Ämter\, ein Gewinnspiel und eventuell auch freie Getränke geben.\n\nWeitere Informationen siehe die offizielle Seite der Stadt Memmingen
URL:https://ba-dickenreishausen.de/event/buergerversammlung-2025-stadt-im-dialog/
LOCATION:Stadthalle Memmingen\, Stadthalle Platz der Deutschen Einheit 1\, Memmingen\, Bayern\, 87700\, Germany
CATEGORIES:Stadt Memmingen
ORGANIZER;CN="Stadt Memmingen":MAILTO:ob-mm@memmingen.de
END:VEVENT
END:VCALENDAR